BEGIN:VCALENDAR
VERSION:2.0
PRODID:-//Duff Consulting - ECPv6.15.20//NONSGML v1.0//EN
CALSCALE:GREGORIAN
METHOD:PUBLISH
X-WR-CALNAME:Duff Consulting
X-ORIGINAL-URL:https://www.duffconsulting.com.au
X-WR-CALDESC:Events for Duff Consulting
REFRESH-INTERVAL;VALUE=DURATION:PT1H
X-Robots-Tag:noindex
X-PUBLISHED-TTL:PT1H
BEGIN:VTIMEZONE
TZID:Australia/Brisbane
BEGIN:STANDARD
TZOFFSETFROM:+1000
TZOFFSETTO:+1000
TZNAME:AEST
DTSTART:20250101T000000
END:STANDARD
END:VTIMEZONE
BEGIN:VEVENT
DTSTART;TZID=Australia/Brisbane:20260611T080000
DTEND;TZID=Australia/Brisbane:20260611T170000
DTSTAMP:20260422T183831
CREATED:20260226T224526Z
LAST-MODIFIED:20260413T063011Z
UID:26270-1781164800-1781197200@www.duffconsulting.com.au
SUMMARY:FELL TREES MANUALLY (BASIC)
DESCRIPTION:
URL:https://www.duffconsulting.com.au/course/fell-trees-manually-basic-107/
LOCATION:Seeonee Park Scout Grounds\, 399 Yeppoon Road\, Rockhampton\, QLD\, 4701\, Australia
CATEGORIES:FELL TREES MANUALLY (BASIC)
ATTACH;FMTTYPE=image/jpeg:https://www.duffconsulting.com.au/wp-content/uploads/2024/12/HTKH1348-e1762405879564.jpg
END:VEVENT
END:VCALENDAR